BEGIN:VCALENDAR
VERSION:2.0
PRODID:-//L&#039;Estanquet de l&#039;Olivier - ECPv6.15.20//NONSGML v1.0//EN
CALSCALE:GREGORIAN
METHOD:PUBLISH
X-WR-CALNAME:L&#039;Estanquet de l&#039;Olivier
X-ORIGINAL-URL:https://lestanquetdelolivier.fr
X-WR-CALDESC:Évènements pour L&#039;Estanquet de l&#039;Olivier
REFRESH-INTERVAL;VALUE=DURATION:PT1H
X-Robots-Tag:noindex
X-PUBLISHED-TTL:PT1H
BEGIN:VTIMEZONE
TZID:Europe/Paris
BEGIN:DAYLIGHT
TZOFFSETFROM:+0100
TZOFFSETTO:+0200
TZNAME:CEST
DTSTART:20230326T010000
END:DAYLIGHT
BEGIN:STANDARD
TZOFFSETFROM:+0200
TZOFFSETTO:+0100
TZNAME:CET
DTSTART:20231029T010000
END:STANDARD
BEGIN:DAYLIGHT
TZOFFSETFROM:+0100
TZOFFSETTO:+0200
TZNAME:CEST
DTSTART:20240331T010000
END:DAYLIGHT
BEGIN:STANDARD
TZOFFSETFROM:+0200
TZOFFSETTO:+0100
TZNAME:CET
DTSTART:20241027T010000
END:STANDARD
BEGIN:DAYLIGHT
TZOFFSETFROM:+0100
TZOFFSETTO:+0200
TZNAME:CEST
DTSTART:20250330T010000
END:DAYLIGHT
BEGIN:STANDARD
TZOFFSETFROM:+0200
TZOFFSETTO:+0100
TZNAME:CET
DTSTART:20251026T010000
END:STANDARD
END:VTIMEZONE
BEGIN:VEVENT
DTSTART;TZID=Europe/Paris:20240621T201500
DTEND;TZID=Europe/Paris:20240621T213000
DTSTAMP:20260424T065516
CREATED:20240619T152220Z
LAST-MODIFIED:20240619T152919Z
UID:10000042-1719000900-1719005400@lestanquetdelolivier.fr
SUMMARY:Demi finale Top 14 Toulouse Vs La Rochelle
DESCRIPTION:📣 Venez vibrer avec nous ! 📣 \nLe café L’Estanquet de l’Olivier a le plaisir de vous inviter à la retransmission de la demi finale du Top 14 ! \n🏉 Match : Toulouse Vs La Rochelle 🏉 \nNe manquez pas cette rencontre palpitante entre deux des meilleures équipes du championnat ! Nous vous attendons nombreux pour partager ce moment de sport et de convivialité. \nAmbiance garantie\, écran géant et bonne humeur au rendez-vous ! 🍻🎉
URL:https://lestanquetdelolivier.fr/evenement/demi-finale-top-14-toulouse-vs-la-rochelle/
LOCATION:l’Estanquet De l’Olivier\, 1 Avenue des Pyrénées\, L'Union\, France
CATEGORIES:autres
ORGANIZER;CN="L'Estanquet De l'Olivier":MAILTO:contact@lestanquetdelolivier.fr
END:VEVENT
BEGIN:VEVENT
DTSTART;TZID=Europe/Paris:20240621T210000
DTEND;TZID=Europe/Paris:20240621T230000
DTSTAMP:20260424T065516
CREATED:20240421T210336Z
LAST-MODIFIED:20240422T083224Z
UID:10000014-1719003600-1719010800@lestanquetdelolivier.fr
SUMMARY:Euro 2024 Pays-Bas Vs France
DESCRIPTION:« Le rendez-vous ultime approche au Café Culturel L’Estanquet de l’Olivier ! 🌟 Le 21 juin 2024 à 21h\, ne manquez pas l’affrontement entre les Pays-Bas et la France lors de l’Euro 2024. 🏆 Joignez vous à nous pour une soirée de pur football. Vivez chaque passe\, chaque tir et chaque but dans une ambiance vibrante de camaraderie et de partage. Installez vous confortablement et laissez nous vous transporter au cœur de l’action. Que vous soyez un fervent supporter ou simplement à la recherche d’une soirée animée\, notre café culturel est l’endroit idéal pour vivre ce moment épique. Au Café Culturel L’Estanquet de l’Olivier\, chaque match devient une célébration de la passion du football et une occasion de créer des souvenirs inoubliables.⚽🎉 #Euro2024 #Lestanquetdelolivier #PassionDuFootball » \n 
URL:https://lestanquetdelolivier.fr/evenement/euro-2024-pays-bas-vs-france/
LOCATION:l’Estanquet De l’Olivier\, 1 Avenue des Pyrénées\, L'Union\, France
CATEGORIES:autres
ORGANIZER;CN="L'Estanquet De l'Olivier":MAILTO:contact@lestanquetdelolivier.fr
END:VEVENT
END:VCALENDAR