BEGIN:VCALENDAR
VERSION:2.0
PRODID:-//L&#039;Estanquet de l&#039;Olivier - ECPv6.15.20//NONSGML v1.0//EN
CALSCALE:GREGORIAN
METHOD:PUBLISH
X-WR-CALNAME:L&#039;Estanquet de l&#039;Olivier
X-ORIGINAL-URL:https://lestanquetdelolivier.fr
X-WR-CALDESC:Évènements pour L&#039;Estanquet de l&#039;Olivier
REFRESH-INTERVAL;VALUE=DURATION:PT1H
X-Robots-Tag:noindex
X-PUBLISHED-TTL:PT1H
BEGIN:VTIMEZONE
TZID:Europe/Paris
BEGIN:DAYLIGHT
TZOFFSETFROM:+0100
TZOFFSETTO:+0200
TZNAME:CEST
DTSTART:20240331T010000
END:DAYLIGHT
BEGIN:STANDARD
TZOFFSETFROM:+0200
TZOFFSETTO:+0100
TZNAME:CET
DTSTART:20241027T010000
END:STANDARD
BEGIN:DAYLIGHT
TZOFFSETFROM:+0100
TZOFFSETTO:+0200
TZNAME:CEST
DTSTART:20250330T010000
END:DAYLIGHT
BEGIN:STANDARD
TZOFFSETFROM:+0200
TZOFFSETTO:+0100
TZNAME:CET
DTSTART:20251026T010000
END:STANDARD
BEGIN:DAYLIGHT
TZOFFSETFROM:+0100
TZOFFSETTO:+0200
TZNAME:CEST
DTSTART:20260329T010000
END:DAYLIGHT
BEGIN:STANDARD
TZOFFSETFROM:+0200
TZOFFSETTO:+0100
TZNAME:CET
DTSTART:20261025T010000
END:STANDARD
END:VTIMEZONE
BEGIN:VEVENT
DTSTART;TZID=Europe/Paris:20250514T180000
DTEND;TZID=Europe/Paris:20250514T190000
DTSTAMP:20260423T124936
CREATED:20250216T115835Z
LAST-MODIFIED:20250413T145305Z
UID:10000177-1747245600-1747249200@lestanquetdelolivier.fr
SUMMARY:🇮🇹 Angolo Italiano – Discussions en italien 🇮🇹
DESCRIPTION:Envie de pratiquer votre italien dans une ambiance conviviale ? Rejoignez-nous le Mercrdedi 14 Mai à l’Estanquet de l’Olivier pour un moment d’échanges et de discussions en toute simplicité. Cet événement est ouvert à tous ceux qui souhaitent améliorer leur italien\, qu’ils soient débutants ou confirmés. Pendant une heure\, nous parlerons italien autour de thèmes variés et accessibles à tous les niveaux. L’objectif est de partager nos connaissances et de progresser ensemble\, dans une atmosphère détendue et bienveillante. \nL’Estanquet de l’Olivier est un lieu charmant\, idéal pour se retrouver autour d’un verre et discuter en italien. Vous aurez l’occasion de rencontrer d’autres passionnés de la langue et de la culture italienne\, d’échanger des expériences et peut-être même de nouer de nouvelles amitiés. Que vous veniez seul ou accompagné\, vous serez toujours le bienvenu. \nCe moment sera animé par Christelle\, une passionnée de la langue italienne\, qui saura vous mettre à l’aise et vous guider tout au long de la session. Elle vous proposera des sujets variés pour alimenter les conversations et vous aidera à surmonter vos éventuelles appréhensions à parler en italien. Si vous avez des suggestions de thèmes que vous aimeriez aborder\, n’hésitez pas à les partager avec nous. Nous sommes ouverts à toutes les idées qui peuvent enrichir nos échanges. \nVolete praticare il vostro italiano in un’atmosfera conviviale? Unitevi a noi sabato 8 febbraio all’Estanquet de l’Olivier per un momento di scambio e discussione in tutta semplicità. Questo evento è aperto a tutti coloro che desiderano migliorare il loro italiano\, che siano principianti o esperti. Per un’ora\, parleremo in italiano su vari temi accessibili a tutti i livelli. L’obiettivo è condividere le nostre conoscenze e migliorare insieme\, in un’atmosfera rilassata e accogliente. \nL’Estanquet de l’Olivier è un luogo incantevole\, ideale per ritrovarsi intorno a un bicchiere e discutere in italiano. Avrete l’opportunità di incontrare altri appassionati della lingua e della cultura italiana\, scambiare esperienze e forse anche stringere nuove amicizie. Che veniate da soli o accompagnati\, sarete sempre i benvenuti. \nQuesto momento sarà animato da Christelle\, una appassionata della lingua italiana\, che saprà mettervi a vostro agio e guidarvi durante tutta la sessione. Vi proporrà vari argomenti per alimentare le conversazioni e vi aiuterà a superare eventuali timori nel parlare italiano. Se avete suggerimenti su temi che vi piacerebbe trattare\, non esitate a condividerli con noi. Siamo aperti a tutte le idee che possono arricchire i nostri scambi.
URL:https://lestanquetdelolivier.fr/evenement/%f0%9f%87%ae%f0%9f%87%b9-angolo-italiano-discussions-en-italien-%f0%9f%87%ae%f0%9f%87%b9-3/
LOCATION:l’Estanquet De l’Olivier\, 1 Avenue des Pyrénées\, L'Union\, France
CATEGORIES:autres
ATTACH;FMTTYPE=image/png:https://lestanquetdelolivier.fr/wp-content/uploads/2025/02/Angolo-Italiano-2ieme-samedi-du-mois.png
END:VEVENT
BEGIN:VEVENT
DTSTART;TZID=Europe/Paris:20250517T193000
DTEND;TZID=Europe/Paris:20250517T203000
DTSTAMP:20260423T124936
CREATED:20250318T111843Z
LAST-MODIFIED:20250511T135022Z
UID:10000202-1747510200-1747513800@lestanquetdelolivier.fr
SUMMARY:Le Quadrille Occitan à l'Estanquet de l'Olivier le 17 Mai
DESCRIPTION:Le 17 mai à partir de 19h30\, l’Estanquet de l’Olivier accueillera un événement exceptionnel : la prestation du célèbre ensemble folklorique « le Quadrille Occitan ». Créé en 1973 à l’Union par des passionnés de danses et de culture toulousaine\, ce groupe a su\, au fil des décennies\, captiver des publics en France et à l’international\, notamment en Amérique\, en Afrique et en Europe. \nLe Quadrille Occitan est bien plus qu’un simple groupe de danse ; c’est une véritable institution culturelle qui perpétue les traditions occitanes avec ferveur et authenticité. Leur spectacle\, riche en couleurs et en émotions\, transporte les spectateurs dans un voyage à travers le temps\, à la découverte des danses traditionnelles de la région toulousaine telles qu’elles étaient pratiquées à la fin du XIXème siècle. Bourrées\, branles\, polkas\, rondeaux et sauts sont autant de danses qui composent leur répertoire varié et dynamique. \nLes Pitchouns du Quadrille\, la section jeune du groupe\, créée en septembre 2022\, incarne cette passion pour la culture occitane. À travers des animations dans les écoles de l’Union et de Toulouse\, ces jeunes talents ont su éveiller l’intérêt de nombreux enfants pour les danses traditionnelles. Leur répertoire\, en constante évolution\, s’enrichit chaque année de nouvelles chorégraphies et mises en scène\, offrant ainsi un spectacle toujours plus captivant. \nAccompagnés par l’orchestre du Quadrille Occitan\, composé d’instruments modernes comme l’accordéon\, le saxophone\, la clarinette\, la flûte et le piccolo\, ainsi que d’instruments plus anciens tels que la vielle à roue\, les Pitchouns du Quadrille offrent une performance musicale et visuelle inoubliable. La fusion entre tradition et modernité crée une alchimie unique qui ravit petits et grands. \nNe manquez pas cette occasion unique de découvrir ou redécouvrir la richesse du patrimoine culturel occitan. Venez nombreux à l’Estanquet de l’Olivier le 17 mai pour une soirée placée sous le signe de la convivialité et de la tradition.
URL:https://lestanquetdelolivier.fr/evenement/le-quadrille-occitan-a-lestanquet-de-lolivier-le-16-mai/
LOCATION:l’Estanquet De l’Olivier\, 1 Avenue des Pyrénées\, L'Union\, France
CATEGORIES:autres
ATTACH;FMTTYPE=image/png:https://lestanquetdelolivier.fr/wp-content/uploads/2025/03/Le-quadrille-occitan-17-mai-1.png
ORGANIZER;CN="L'Estanquet De l'Olivier":MAILTO:contact@lestanquetdelolivier.fr
END:VEVENT
END:VCALENDAR