BEGIN:VCALENDAR
VERSION:2.0
PRODID:-//L&#039;Estanquet de l&#039;Olivier - ECPv6.15.20//NONSGML v1.0//EN
CALSCALE:GREGORIAN
METHOD:PUBLISH
X-WR-CALNAME:L&#039;Estanquet de l&#039;Olivier
X-ORIGINAL-URL:https://lestanquetdelolivier.fr
X-WR-CALDESC:Évènements pour L&#039;Estanquet de l&#039;Olivier
REFRESH-INTERVAL;VALUE=DURATION:PT1H
X-Robots-Tag:noindex
X-PUBLISHED-TTL:PT1H
BEGIN:VTIMEZONE
TZID:Europe/Paris
BEGIN:DAYLIGHT
TZOFFSETFROM:+0100
TZOFFSETTO:+0200
TZNAME:CEST
DTSTART:20240331T010000
END:DAYLIGHT
BEGIN:STANDARD
TZOFFSETFROM:+0200
TZOFFSETTO:+0100
TZNAME:CET
DTSTART:20241027T010000
END:STANDARD
BEGIN:DAYLIGHT
TZOFFSETFROM:+0100
TZOFFSETTO:+0200
TZNAME:CEST
DTSTART:20250330T010000
END:DAYLIGHT
BEGIN:STANDARD
TZOFFSETFROM:+0200
TZOFFSETTO:+0100
TZNAME:CET
DTSTART:20251026T010000
END:STANDARD
BEGIN:DAYLIGHT
TZOFFSETFROM:+0100
TZOFFSETTO:+0200
TZNAME:CEST
DTSTART:20260329T010000
END:DAYLIGHT
BEGIN:STANDARD
TZOFFSETFROM:+0200
TZOFFSETTO:+0100
TZNAME:CET
DTSTART:20261025T010000
END:STANDARD
END:VTIMEZONE
BEGIN:VEVENT
DTSTART;TZID=Europe/Paris:20250208T170000
DTEND;TZID=Europe/Paris:20250208T180000
DTSTAMP:20260423T173229
CREATED:20250126T153831Z
LAST-MODIFIED:20250126T155915Z
UID:10000166-1739034000-1739037600@lestanquetdelolivier.fr
SUMMARY:🇮🇹 Angolo Italiano – Discussions en italien 🇮🇹
DESCRIPTION:Envie de pratiquer votre italien dans une ambiance conviviale ? Rejoignez-nous le samedi 8 février à l’Estanquet de l’Olivier pour un moment d’échanges et de discussions en toute simplicité. \nPendant 1h\, nous parlerons italien autour de thèmes variés et accessibles à tous les niveaux. Que vous soyez débutant ou confirmé\, cet espace est fait pour vous : l’important est de partager et de progresser ensemble\, dans une atmosphère détendue et bienveillante. \nCe moment sera animée par Christelle. \nVolete praticare il vostro italiano in un’atmosfera conviviale?\nUnitevi a noi sabato 8 febbraio all’Estanquet de l’Olivier per un momento di scambio e discussione in tutta semplicità. \nPer 1 ora\, parleremo in italiano su vari temi accessibili a tutti i livelli. Che siate principianti o esperti\, questo spazio è fatto per voi: l’importante è condividere e migliorare insieme\, in un’atmosfera rilassata e accogliente. \nQuesto momento sarà animato da Christelle.
URL:https://lestanquetdelolivier.fr/evenement/%f0%9f%87%ae%f0%9f%87%b9-angolo-italiano-discussions-en-italien-%f0%9f%87%ae%f0%9f%87%b9/
LOCATION:l’Estanquet De l’Olivier\, 1 Avenue des Pyrénées\, L'Union\, France
CATEGORIES:autres
ATTACH;FMTTYPE=image/png:https://lestanquetdelolivier.fr/wp-content/uploads/2025/01/Angolo-Italiano-samedi-8-Fevrier.png
ORGANIZER;CN="L'Estanquet De l'Olivier":MAILTO:contact@lestanquetdelolivier.fr
END:VEVENT
BEGIN:VEVENT
DTSTART;TZID=Europe/Paris:20250214T200000
DTEND;TZID=Europe/Paris:20250214T230000
DTSTAMP:20260423T173229
CREATED:20250201T183011Z
LAST-MODIFIED:20250202T184628Z
UID:10000168-1739563200-1739574000@lestanquetdelolivier.fr
SUMMARY:SOIRÉE ANTI SAINT-VALENTIN – 14 FÉVRIER À L’ESTANQUET DE L’OLIVIER
DESCRIPTION:Marre des cœurs en chocolat et des déclarations mielleuses ? Venez passer une soirée placée sous le signe de l’amusement et de la bonne ambiance ! \n🎯 AU PROGRAMME 🎯\n🔥 Tableau blanc anonyme : Partagez vos anecdotes hilarantes ou vos conseils ironiques sur l’amour.\n🎯 Jeu de fléchettes : Malheureux en amour ? Peut-être plus chanceux au jeu !\n🍀 Tirage au sort : Tentez votre chance pour remporter des boissons (softs\, bières\, cocktails) et une bouteille de vin !\n🎶 DJ Set by Ludo : Il débute\, soyez indulgents\, mais surtout venez danser et vous éclater !\n🍷 Sangria maison : Préparée avec amour par l’équipe de l’Estanquet. \n💕 Tout le monde est bienvenu : Célibataires\, couples\, amis… Peu importe votre statut\, tant que vous venez avec l’envie de passer une soirée originale et festive !
URL:https://lestanquetdelolivier.fr/evenement/soiree-anti-saint-valentin/
LOCATION:l’Estanquet De l’Olivier\, 1 Avenue des Pyrénées\, L'Union\, France
CATEGORIES:autres
ATTACH;FMTTYPE=image/png:https://lestanquetdelolivier.fr/wp-content/uploads/2025/02/Anti-Valentines-day.png
ORGANIZER;CN="L'Estanquet De l'Olivier":MAILTO:contact@lestanquetdelolivier.fr
END:VEVENT
BEGIN:VEVENT
DTSTART;TZID=Europe/Paris:20250215T160000
DTEND;TZID=Europe/Paris:20250215T180000
DTSTAMP:20260423T173229
CREATED:20250117T135936Z
LAST-MODIFIED:20250117T190920Z
UID:10000149-1739635200-1739642400@lestanquetdelolivier.fr
SUMMARY:À Vol d’Abeille – Mini Conférence Naturelle
DESCRIPTION:À l’Estanquet de l’Olivier \nL’association Abeillement Votre vous invite à une après-midi fascinante où l’on part à la découverte du monde des abeilles… comme vous ne l’avez jamais vu ! \nAu programme :\nDes questions surprenantes\, des réponses inattendues et des anecdotes amusantes :\n🐝 Dis\, c’est quoi une abeille solitaire ? Elle vit seule\, elle fabrique du miel ?\n🐝 Pourquoi ça pique une abeille ?\n🐝 Le miel\, c’est tout ? Et si les abeilles jouaient un rôle dans… le fromage ?\n🐝 La ruche\, une discothèque ? Oui\, les abeilles dansent !\n🐝 Et plein d’autres surprises autour de ces petites ouvrières indispensables à la nature. \nUn moment interactif\, pédagogique et convivial à partager en famille ou entre amis.\nAlors\, prêts à devenir incollables sur le monde des abeilles ? \nVenez avec votre curiosité\, repartez avec des connaissances étonnantes ! \nGratuit\, la billetterie n’est pas une réservation mais une participation à l’évènement et permet à l’Estanquet d’avoir une jauge approximative des personnes qui seront présentes à l’évènement.
URL:https://lestanquetdelolivier.fr/evenement/a-vol-dabeille-mini-conference-naturelle/
LOCATION:l’Estanquet De l’Olivier\, 1 Avenue des Pyrénées\, L'Union\, France
CATEGORIES:autres
ATTACH;FMTTYPE=image/png:https://lestanquetdelolivier.fr/wp-content/uploads/2025/01/Mini-conference-propose-par-Abeillement-votre-15-fevrier-16h.png
ORGANIZER;CN="L'Estanquet De l'Olivier":MAILTO:contact@lestanquetdelolivier.fr
END:VEVENT
END:VCALENDAR